BEGIN:VCALENDAR
VERSION:2.0
PRODID:-//Take 1 Dance - ECPv6.15.20//NONSGML v1.0//EN
CALSCALE:GREGORIAN
METHOD:PUBLISH
X-WR-CALNAME:Take 1 Dance
X-ORIGINAL-URL:https://take1dance.co.uk
X-WR-CALDESC:Events for Take 1 Dance
REFRESH-INTERVAL;VALUE=DURATION:PT1H
X-Robots-Tag:noindex
X-PUBLISHED-TTL:PT1H
BEGIN:VTIMEZONE
TZID:Europe/London
BEGIN:DAYLIGHT
TZOFFSETFROM:+0000
TZOFFSETTO:+0100
TZNAME:BST
DTSTART:20250330T010000
END:DAYLIGHT
BEGIN:STANDARD
TZOFFSETFROM:+0100
TZOFFSETTO:+0000
TZNAME:GMT
DTSTART:20251026T010000
END:STANDARD
BEGIN:DAYLIGHT
TZOFFSETFROM:+0000
TZOFFSETTO:+0100
TZNAME:BST
DTSTART:20260329T010000
END:DAYLIGHT
BEGIN:STANDARD
TZOFFSETFROM:+0100
TZOFFSETTO:+0000
TZNAME:GMT
DTSTART:20261025T010000
END:STANDARD
BEGIN:DAYLIGHT
TZOFFSETFROM:+0000
TZOFFSETTO:+0100
TZNAME:BST
DTSTART:20270328T010000
END:DAYLIGHT
BEGIN:STANDARD
TZOFFSETFROM:+0100
TZOFFSETTO:+0000
TZNAME:GMT
DTSTART:20271031T010000
END:STANDARD
END:VTIMEZONE
BEGIN:VEVENT
DTSTART;TZID=Europe/London:20260404T130000
DTEND;TZID=Europe/London:20260412T233000
DTSTAMP:20260419T133643
CREATED:20260404T120045Z
LAST-MODIFIED:20260401T152313Z
UID:11241-1775307600-1776036600@take1dance.co.uk
SUMMARY:CLOSED (APRIL HALF TERM)
DESCRIPTION:WE ARE CLOSED FOR APRIL (EASTER) HALF TERM
URL:https://take1dance.co.uk/class/closed-april-half-term/
LOCATION:Take 1 Studios\, Gregory Boulevard\, Nottingham\, NG7 6BE\, United Kingdom
CATEGORIES:Classes
ATTACH;FMTTYPE=image/png:https://take1dance.co.uk/wp-content/uploads/2026/04/CLOSED-APRIL-HT.png
END:VEVENT
BEGIN:VEVENT
DTSTART;TZID=Europe/London:20260404T100500
DTEND;TZID=Europe/London:20260404T130000
DTSTAMP:20260419T133643
CREATED:20260328T155208Z
LAST-MODIFIED:20260328T155208Z
UID:11202-1775297100-1775307600@take1dance.co.uk
SUMMARY:ACADEMY TRAINING
DESCRIPTION:*CLOSED SESSION*
URL:https://take1dance.co.uk/class/academy-training-2/
LOCATION:Take 1 Studios\, Gregory Boulevard\, Nottingham\, NG7 6BE\, United Kingdom
CATEGORIES:Classes
ATTACH;FMTTYPE=image/png:https://take1dance.co.uk/wp-content/uploads/2026/01/2026-ACADEMY.png
END:VEVENT
BEGIN:VEVENT
DTSTART;TZID=Europe/London:20260404T100000
DTEND;TZID=Europe/London:20260404T104500
DTSTAMP:20260419T133643
CREATED:20260328T154915Z
LAST-MODIFIED:20260328T155013Z
UID:11199-1775296800-1775299500@take1dance.co.uk
SUMMARY:KIDS STREETDANCE
DESCRIPTION:
URL:https://take1dance.co.uk/class/kids-streetdance-3/
LOCATION:Take 1 Studios\, Gregory Boulevard\, Nottingham\, NG7 6BE\, United Kingdom
CATEGORIES:Classes
ATTACH;FMTTYPE=image/png:https://take1dance.co.uk/wp-content/uploads/2026/01/2026-KIDS-STREETDANCE.png
END:VEVENT
BEGIN:VEVENT
DTSTART;TZID=Europe/London:20260403T180000
DTEND;TZID=Europe/London:20260403T200000
DTSTAMP:20260419T133643
CREATED:20260328T154522Z
LAST-MODIFIED:20260328T154522Z
UID:11197-1775239200-1775246400@take1dance.co.uk
SUMMARY:DANCE PROJECT/REHEARSALS
DESCRIPTION:*CLOSED SESSION*
URL:https://take1dance.co.uk/class/dance-project-rehearsals/
LOCATION:Take 1 Studios\, Gregory Boulevard\, Nottingham\, NG7 6BE\, United Kingdom
CATEGORIES:Classes
ATTACH;FMTTYPE=image/png:https://take1dance.co.uk/wp-content/uploads/2026/01/2026-DANCE-PROJECTS_WORKSHOPS.png
END:VEVENT
BEGIN:VEVENT
DTSTART;TZID=Europe/London:20260402T180000
DTEND;TZID=Europe/London:20260402T200000
DTSTAMP:20260419T133643
CREATED:20260328T154322Z
LAST-MODIFIED:20260328T154322Z
UID:11195-1775152800-1775160000@take1dance.co.uk
SUMMARY:TEAM TRAINING
DESCRIPTION:*CLOSED SESSION*
URL:https://take1dance.co.uk/class/team-training-3/
LOCATION:Take 1 Studios\, Gregory Boulevard\, Nottingham\, NG7 6BE\, United Kingdom
CATEGORIES:Classes
ATTACH;FMTTYPE=image/png:https://take1dance.co.uk/wp-content/uploads/2026/01/2026-TEAM-TRAINING.png
END:VEVENT
BEGIN:VEVENT
DTSTART;TZID=Europe/London:20260402T170000
DTEND;TZID=Europe/London:20260402T180000
DTSTAMP:20260419T133643
CREATED:20260328T154127Z
LAST-MODIFIED:20260328T154127Z
UID:11193-1775149200-1775152800@take1dance.co.uk
SUMMARY:PRIVATE LESSONS (TEAM)
DESCRIPTION:*CLOSED SESSION*
URL:https://take1dance.co.uk/class/private-lessons-team-3/
LOCATION:Take 1 Studios\, Gregory Boulevard\, Nottingham\, NG7 6BE\, United Kingdom
CATEGORIES:Classes
ATTACH;FMTTYPE=image/png:https://take1dance.co.uk/wp-content/uploads/2026/01/2026-PRIVATE-LESSONS.png
END:VEVENT
BEGIN:VEVENT
DTSTART;TZID=Europe/London:20260401T193000
DTEND;TZID=Europe/London:20260401T210000
DTSTAMP:20260419T133643
CREATED:20260319T140015Z
LAST-MODIFIED:20260401T160816Z
UID:11087-1775071800-1775077200@take1dance.co.uk
SUMMARY:ZEN ROSE *GUEST WORKSHOP* - CHOREOGRAPHY
DESCRIPTION:@ZENROSEEE
URL:https://take1dance.co.uk/class/zen-rose-guest-workshop-choreography/
LOCATION:Take 1 Studios\, Gregory Boulevard\, Nottingham\, NG7 6BE\, United Kingdom
CATEGORIES:Classes
ATTACH;FMTTYPE=image/png:https://take1dance.co.uk/wp-content/uploads/2026/03/2026-GUEST-CLASS-ZEN-.png
END:VEVENT
BEGIN:VEVENT
DTSTART;TZID=Europe/London:20260401T180000
DTEND;TZID=Europe/London:20260401T191500
DTSTAMP:20260419T133643
CREATED:20260328T153929Z
LAST-MODIFIED:20260328T153929Z
UID:11190-1775066400-1775070900@take1dance.co.uk
SUMMARY:OPEN CHOREOGRAPHY
DESCRIPTION:
URL:https://take1dance.co.uk/class/open-choreography-3/
LOCATION:Take 1 Studios\, Gregory Boulevard\, Nottingham\, NG7 6BE\, United Kingdom
CATEGORIES:Classes
ATTACH;FMTTYPE=image/png:https://take1dance.co.uk/wp-content/uploads/2026/01/2026-OPEN-CHOREOGRAPHY.png
END:VEVENT
BEGIN:VEVENT
DTSTART;TZID=Europe/London:20260331T180000
DTEND;TZID=Europe/London:20260331T190000
DTSTAMP:20260419T133643
CREATED:20260328T153353Z
LAST-MODIFIED:20260331T114533Z
UID:11187-1774980000-1774983600@take1dance.co.uk
SUMMARY:JUNIOR STREETDANCE
DESCRIPTION:
URL:https://take1dance.co.uk/class/junior-streetdance/
LOCATION:Take 1 Studios\, Gregory Boulevard\, Nottingham\, NG7 6BE\, United Kingdom
CATEGORIES:Classes
ATTACH;FMTTYPE=image/png:https://take1dance.co.uk/wp-content/uploads/2026/01/2026-JUNIOR-STREETDANCE.png
END:VEVENT
BEGIN:VEVENT
DTSTART;TZID=Europe/London:20260328T130000
DTEND;TZID=Europe/London:20260328T170000
DTSTAMP:20260419T133643
CREATED:20260321T170028Z
LAST-MODIFIED:20260225T151047Z
UID:10946-1774702800-1774717200@take1dance.co.uk
SUMMARY:TEAM/COMPANY 'BOOTCAMP'
DESCRIPTION:*CLOSED SESSION*
URL:https://take1dance.co.uk/class/team-company-bootcamp-9/
LOCATION:Take 1 Studios\, Gregory Boulevard\, Nottingham\, NG7 6BE\, United Kingdom
ATTACH;FMTTYPE=image/png:https://take1dance.co.uk/wp-content/uploads/2026/01/2026-BOOTCAMP.png
END:VEVENT
BEGIN:VEVENT
DTSTART;TZID=Europe/London:20260328T100000
DTEND;TZID=Europe/London:20260328T130000
DTSTAMP:20260419T133643
CREATED:20260321T130006Z
LAST-MODIFIED:20260225T143537Z
UID:10941-1774692000-1774702800@take1dance.co.uk
SUMMARY:ACADEMY TRAINING
DESCRIPTION:*CLOSED SESSION*
URL:https://take1dance.co.uk/class/academy-training-9/
LOCATION:Take 1 Studios\, Gregory Boulevard\, Nottingham\, NG7 6BE\, United Kingdom
ATTACH;FMTTYPE=image/png:https://take1dance.co.uk/wp-content/uploads/2026/01/2026-ACADEMY.png
END:VEVENT
BEGIN:VEVENT
DTSTART;TZID=Europe/London:20260328T100000
DTEND;TZID=Europe/London:20260328T104500
DTSTAMP:20260419T133643
CREATED:20260321T110013Z
LAST-MODIFIED:20260225T144219Z
UID:10943-1774692000-1774694700@take1dance.co.uk
SUMMARY:KIDS STREETDANCE
DESCRIPTION:
URL:https://take1dance.co.uk/class/kids-streetdance-8/
LOCATION:Take 1 Studios\, Gregory Boulevard\, Nottingham\, NG7 6BE\, United Kingdom
ATTACH;FMTTYPE=image/png:https://take1dance.co.uk/wp-content/uploads/2026/01/2026-KIDS-STREETDANCE.png
END:VEVENT
BEGIN:VEVENT
DTSTART;TZID=Europe/London:20260327T180000
DTEND;TZID=Europe/London:20260327T200000
DTSTAMP:20260419T133643
CREATED:20260320T200054Z
LAST-MODIFIED:20260225T143302Z
UID:10939-1774634400-1774641600@take1dance.co.uk
SUMMARY:DANCE PROJECTS/REHEARSALS
DESCRIPTION:*CLOSED SESSION*
URL:https://take1dance.co.uk/class/dance-projects-rehearsals-8/
LOCATION:Take 1 Studios\, Gregory Boulevard\, Nottingham\, NG7 6BE\, United Kingdom
ATTACH;FMTTYPE=image/png:https://take1dance.co.uk/wp-content/uploads/2026/01/2026-DANCE-PROJECTS_WORKSHOPS.png
END:VEVENT
BEGIN:VEVENT
DTSTART;TZID=Europe/London:20260326T180000
DTEND;TZID=Europe/London:20260326T200000
DTSTAMP:20260419T133643
CREATED:20260319T200004Z
LAST-MODIFIED:20260225T142935Z
UID:10937-1774548000-1774555200@take1dance.co.uk
SUMMARY:TEAM TRAINING
DESCRIPTION:*CLOSED SESSION*
URL:https://take1dance.co.uk/class/team-training-8/
LOCATION:Take 1 Studios\, Gregory Boulevard\, Nottingham\, NG7 6BE\, United Kingdom
ATTACH;FMTTYPE=image/png:https://take1dance.co.uk/wp-content/uploads/2026/01/2026-TEAM-TRAINING.png
END:VEVENT
BEGIN:VEVENT
DTSTART;TZID=Europe/London:20260326T170000
DTEND;TZID=Europe/London:20260326T180000
DTSTAMP:20260419T133643
CREATED:20260319T180034Z
LAST-MODIFIED:20260225T142742Z
UID:10935-1774544400-1774548000@take1dance.co.uk
SUMMARY:PRIVATE LESSONS (TEAM)
DESCRIPTION:*CLOSED SESSIONS*
URL:https://take1dance.co.uk/class/private-lessons-team-8/
LOCATION:Take 1 Studios\, Gregory Boulevard\, Nottingham\, NG7 6BE\, United Kingdom
ATTACH;FMTTYPE=image/png:https://take1dance.co.uk/wp-content/uploads/2026/01/2026-PRIVATE-LESSONS.png
END:VEVENT
BEGIN:VEVENT
DTSTART;TZID=Europe/London:20260325T180000
DTEND;TZID=Europe/London:20260325T191500
DTSTAMP:20260419T133643
CREATED:20260318T193020Z
LAST-MODIFIED:20260225T141704Z
UID:10932-1774461600-1774466100@take1dance.co.uk
SUMMARY:OPEN CHOREOGRAPHY
DESCRIPTION:
URL:https://take1dance.co.uk/class/open-choreography-8/
LOCATION:Take 1 Studios\, Gregory Boulevard\, Nottingham\, NG7 6BE\, United Kingdom
ATTACH;FMTTYPE=image/png:https://take1dance.co.uk/wp-content/uploads/2026/01/2026-OPEN-CHOREOGRAPHY.png
END:VEVENT
BEGIN:VEVENT
DTSTART;TZID=Europe/London:20260324T180000
DTEND;TZID=Europe/London:20260324T190000
DTSTAMP:20260419T133643
CREATED:20260319T130054Z
LAST-MODIFIED:20260319T132611Z
UID:10929-1774375200-1774378800@take1dance.co.uk
SUMMARY:JUNIOR STREETDANCE
DESCRIPTION:
URL:https://take1dance.co.uk/class/junior-streetdance-8/
LOCATION:Take 1 Studios\, Gregory Boulevard\, Nottingham\, NG7 6BE\, United Kingdom
CATEGORIES:Classes
ATTACH;FMTTYPE=image/png:https://take1dance.co.uk/wp-content/uploads/2026/01/2026-JUNIOR-STREETDANCE.png
END:VEVENT
BEGIN:VEVENT
DTSTART;TZID=Europe/London:20260321T130000
DTEND;TZID=Europe/London:20260321T170000
DTSTAMP:20260419T133643
CREATED:20260314T170042Z
LAST-MODIFIED:20260225T135918Z
UID:10927-1774098000-1774112400@take1dance.co.uk
SUMMARY:TEAM/COMPANY 'BOOTCAMP'
DESCRIPTION:*CLOSED SESSION*
URL:https://take1dance.co.uk/class/team-company-bootcamp-8/
LOCATION:Take 1 Studios\, Gregory Boulevard\, Nottingham\, NG7 6BE\, United Kingdom
ATTACH;FMTTYPE=image/png:https://take1dance.co.uk/wp-content/uploads/2026/01/2026-BOOTCAMP.png
END:VEVENT
BEGIN:VEVENT
DTSTART;TZID=Europe/London:20260321T100000
DTEND;TZID=Europe/London:20260321T130000
DTSTAMP:20260419T133643
CREATED:20260314T130054Z
LAST-MODIFIED:20260225T135722Z
UID:10925-1774087200-1774098000@take1dance.co.uk
SUMMARY:ACADEMY TRAINING
DESCRIPTION:*CLOSED SESSION*
URL:https://take1dance.co.uk/class/academy-training-8/
LOCATION:Take 1 Studios\, Gregory Boulevard\, Nottingham\, NG7 6BE\, United Kingdom
ATTACH;FMTTYPE=image/png:https://take1dance.co.uk/wp-content/uploads/2026/01/2026-ACADEMY.png
END:VEVENT
BEGIN:VEVENT
DTSTART;TZID=Europe/London:20260321T100000
DTEND;TZID=Europe/London:20260321T104500
DTSTAMP:20260419T133643
CREATED:20260314T110023Z
LAST-MODIFIED:20260225T125611Z
UID:10912-1774087200-1774089900@take1dance.co.uk
SUMMARY:KIDS STREETDANCE
DESCRIPTION:
URL:https://take1dance.co.uk/class/kids-streetdance-2/
LOCATION:Take 1 Studios\, Gregory Boulevard\, Nottingham\, NG7 6BE\, United Kingdom
ATTACH;FMTTYPE=image/png:https://take1dance.co.uk/wp-content/uploads/2026/01/2026-KIDS-STREETDANCE.png
END:VEVENT
BEGIN:VEVENT
DTSTART;TZID=Europe/London:20260320T180000
DTEND;TZID=Europe/London:20260320T200000
DTSTAMP:20260419T133643
CREATED:20260313T200033Z
LAST-MODIFIED:20260225T124512Z
UID:10908-1774029600-1774036800@take1dance.co.uk
SUMMARY:DANCE PROJECTS/ REHEARSALS
DESCRIPTION:*CLOSED SESSION*
URL:https://take1dance.co.uk/class/dance-projects-rehearsals-2/
LOCATION:Take 1 Studios\, Gregory Boulevard\, Nottingham\, NG7 6BE\, United Kingdom
ATTACH;FMTTYPE=image/png:https://take1dance.co.uk/wp-content/uploads/2026/01/2026-DANCE-PROJECTS_WORKSHOPS.png
END:VEVENT
BEGIN:VEVENT
DTSTART;TZID=Europe/London:20260319T180000
DTEND;TZID=Europe/London:20260319T200000
DTSTAMP:20260419T133643
CREATED:20260312T200053Z
LAST-MODIFIED:20260225T124113Z
UID:10906-1773943200-1773950400@take1dance.co.uk
SUMMARY:TEAM TRAINING
DESCRIPTION:*CLOSED SESSION*
URL:https://take1dance.co.uk/class/team-training-7/
LOCATION:Take 1 Studios\, Gregory Boulevard\, Nottingham\, NG7 6BE\, United Kingdom
ATTACH;FMTTYPE=image/png:https://take1dance.co.uk/wp-content/uploads/2026/01/2026-TEAM-TRAINING.png
END:VEVENT
BEGIN:VEVENT
DTSTART;TZID=Europe/London:20260319T170000
DTEND;TZID=Europe/London:20260319T180000
DTSTAMP:20260419T133643
CREATED:20260312T180014Z
LAST-MODIFIED:20260225T122332Z
UID:10904-1773939600-1773943200@take1dance.co.uk
SUMMARY:PRIVATE LESSONS (TEAM)
DESCRIPTION:*CLOSED SESSION*
URL:https://take1dance.co.uk/class/private-lessons-team-7/
LOCATION:Take 1 Studios\, Gregory Boulevard\, Nottingham\, NG7 6BE\, United Kingdom
ATTACH;FMTTYPE=image/png:https://take1dance.co.uk/wp-content/uploads/2026/01/2026-PRIVATE-LESSONS.png
END:VEVENT
END:VCALENDAR